BEGIN:VCALENDAR
VERSION:2.0
PRODID:-//Ivanhoe Darebin Basketball Association - ECPv5.3.2.1//NONSGML v1.0//EN
CALSCALE:GREGORIAN
METHOD:PUBLISH
X-WR-CALNAME:Ivanhoe Darebin Basketball Association
X-ORIGINAL-URL:https://idba.org.au
X-WR-CALDESC:Events for Ivanhoe Darebin Basketball Association
BEGIN:VTIMEZONE
TZID:Australia/Melbourne
BEGIN:STANDARD
TZOFFSETFROM:+1100
TZOFFSETTO:+1000
TZNAME:AEST
DTSTART:20160402T160000
END:STANDARD
BEGIN:DAYLIGHT
TZOFFSETFROM:+1000
TZOFFSETTO:+1100
TZNAME:AEDT
DTSTART:20161001T160000
END:DAYLIGHT
END:VTIMEZONE
BEGIN:VEVENT
DTSTART;VALUE=DATE:20160801
DTEND;VALUE=DATE:20160802
DTSTAMP:20210228T100637
CREATED:20160803T063428Z
LAST-MODIFIED:20160803T063638Z
UID:2098-1470009600-1470095999@idba.org.au
SUMMARY:Senior men's competition - Round 1
DESCRIPTION:Winter Season of our Monday night men’s competition begins.
URL:https://idba.org.au/event/senior-mens-competition-round-1/
LOCATION:Darebin Community Sports Stadium\, 857 Plenty Road\, Reservoir\, Victoria\, 3073\, Australia
CATEGORIES:Season dates
END:VEVENT
END:VCALENDAR