BEGIN:VCALENDAR
VERSION:2.0
PRODID:-//Ivanhoe Darebin Basketball Association - ECPv5.3.2.1//NONSGML v1.0//EN
CALSCALE:GREGORIAN
METHOD:PUBLISH
X-WR-CALNAME:Ivanhoe Darebin Basketball Association
X-ORIGINAL-URL:https://idba.org.au
X-WR-CALDESC:Events for Ivanhoe Darebin Basketball Association
BEGIN:VTIMEZONE
TZID:Australia/Melbourne
BEGIN:STANDARD
TZOFFSETFROM:+1100
TZOFFSETTO:+1000
TZNAME:AEST
DTSTART:20180331T160000
END:STANDARD
BEGIN:DAYLIGHT
TZOFFSETFROM:+1000
TZOFFSETTO:+1100
TZNAME:AEDT
DTSTART:20181006T160000
END:DAYLIGHT
END:VTIMEZONE
BEGIN:VEVENT
DTSTART;TZID=Australia/Melbourne:20180812T150000
DTEND;TZID=Australia/Melbourne:20180812T170000
DTSTAMP:20210228T100004
CREATED:20180729T094349Z
LAST-MODIFIED:20180729T094349Z
UID:2455-1534086000-1534093200@idba.org.au
SUMMARY:Rep Ready program - day 1
DESCRIPTION:Girls – 3 to 4pm \nBoys – 4 to 5pm
URL:https://idba.org.au/event/rep-ready-program-day-1/
END:VEVENT
END:VCALENDAR