BEGIN:VCALENDAR
VERSION:2.0
PRODID:-//Ivanhoe Darebin Basketball Association - ECPv5.3.2.1//NONSGML v1.0//EN
CALSCALE:GREGORIAN
METHOD:PUBLISH
X-WR-CALNAME:Ivanhoe Darebin Basketball Association
X-ORIGINAL-URL:https://idba.org.au
X-WR-CALDESC:Events for Ivanhoe Darebin Basketball Association
BEGIN:VTIMEZONE
TZID:Australia/Melbourne
BEGIN:STANDARD
TZOFFSETFROM:+1100
TZOFFSETTO:+1000
TZNAME:AEST
DTSTART:20190406T160000
END:STANDARD
BEGIN:DAYLIGHT
TZOFFSETFROM:+1000
TZOFFSETTO:+1100
TZNAME:AEDT
DTSTART:20191005T160000
END:DAYLIGHT
END:VTIMEZONE
BEGIN:VEVENT
DTSTART;TZID=Australia/Melbourne:20190702T093000
DTEND;TZID=Australia/Melbourne:20190702T120000
DTSTAMP:20210228T100128
CREATED:20190618T090103Z
LAST-MODIFIED:20190618T090103Z
UID:2791-1562059800-1562068800@idba.org.au
SUMMARY:July School Holiday Clinic #1
DESCRIPTION:Book the kids in for a morning of fun filled skills and drills sessions. \nThe clinics are aimed at children aged from 5 to 12 years of age. \nWe cater for all skill levels\, from beginners to players already in a domestic competition. \n  \nDates: Tuesday 2nd July\, Thursday 4th July\, Tuesday 9th July or Thursday 11th July \nSessions: Morning session – 9.30am to 12.00pm \nCost: $30 per participant (per session) \nVenue: Darebin Community Sports Stadium (Court 1 and 2) \n857 Plenty Road RESERVOIR\, 3073 \nComfortable clothing\, a suitably sized basketball and a drink bottle are essential. \nRefunds will only be processed at the discretion of club management and on presentation of a medical certificate. \nBooking link – click here \nFor clinic enquiries\, contact Jenny Kyriakopoulos – admin@idba.org.au \n 
URL:https://idba.org.au/event/july-school-holiday-clinic-1/
LOCATION:Darebin Community Sports Stadium\, 857 Plenty Road\, Reservoir\, Victoria\, 3073\, Australia
END:VEVENT
END:VCALENDAR