BEGIN:VCALENDAR
VERSION:2.0
PRODID:-//Ivanhoe Darebin Basketball Association - ECPv5.3.2.1//NONSGML v1.0//EN
CALSCALE:GREGORIAN
METHOD:PUBLISH
X-WR-CALNAME:Ivanhoe Darebin Basketball Association
X-ORIGINAL-URL:https://idba.org.au
X-WR-CALDESC:Events for Ivanhoe Darebin Basketball Association
BEGIN:VTIMEZONE
TZID:Australia/Melbourne
BEGIN:STANDARD
TZOFFSETFROM:+1100
TZOFFSETTO:+1000
TZNAME:AEST
DTSTART:20170401T160000
END:STANDARD
BEGIN:DAYLIGHT
TZOFFSETFROM:+1000
TZOFFSETTO:+1100
TZNAME:AEDT
DTSTART:20170930T160000
END:DAYLIGHT
END:VTIMEZONE
BEGIN:VEVENT
DTSTART;TZID=Australia/Melbourne:20170927T193000
DTEND;TZID=Australia/Melbourne:20170927T210000
DTSTAMP:20210228T100521
CREATED:20170828T104601Z
LAST-MODIFIED:20170828T104648Z
UID:2295-1506540600-1506546000@idba.org.au
SUMMARY:Annual General Meeting
DESCRIPTION:Members are invited to attend the 2017 Ivanhoe Darebin Basketball Association Annual General Meeting (AGM) scheduled for Wednesday 27 September. \nNominations for committee positions close at 5:00 pm on 22 September 2017. \nFind out more.
URL:https://idba.org.au/event/annual-general-meeting/
LOCATION:Darebin Community Sports Stadium\, 857 Plenty Road\, Reservoir\, Victoria\, 3073\, Australia
CATEGORIES:Club events
END:VEVENT
END:VCALENDAR