BEGIN:VCALENDAR
VERSION:2.0
PRODID:-//Ivanhoe Darebin Basketball Association - ECPv5.3.2.1//NONSGML v1.0//EN
CALSCALE:GREGORIAN
METHOD:PUBLISH
X-WR-CALNAME:Ivanhoe Darebin Basketball Association
X-ORIGINAL-URL:https://idba.org.au
X-WR-CALDESC:Events for Ivanhoe Darebin Basketball Association
BEGIN:VTIMEZONE
TZID:Australia/Melbourne
BEGIN:STANDARD
TZOFFSETFROM:+1100
TZOFFSETTO:+1000
TZNAME:AEST
DTSTART:20190406T160000
END:STANDARD
BEGIN:DAYLIGHT
TZOFFSETFROM:+1000
TZOFFSETTO:+1100
TZNAME:AEDT
DTSTART:20191005T160000
END:DAYLIGHT
END:VTIMEZONE
BEGIN:VEVENT
DTSTART;TZID=Australia/Melbourne:20191024T193000
DTEND;TZID=Australia/Melbourne:20191024T203000
DTSTAMP:20210228T094912
CREATED:20190923T012023Z
LAST-MODIFIED:20190923T012023Z
UID:3008-1571945400-1571949000@idba.org.au
SUMMARY:2019 AGM - Ivanhoe Darebin Basketball Association
DESCRIPTION:The 2019 Annual General Meeting of the Ivanhoe Darebin Basketball Association Inc. will be held on Thursday 24th October\, 2019 at the Darebin Community Sports Stadium. \nAgenda:\n\n\n\n\nAttendance: Present/Apologies\nMinutes from 2019 AGM\nNominations for 2019/20 Executive Committee\nReports – President and Treasurer\nClose
URL:https://idba.org.au/event/2019-agm-ivanhoe-darebin-basketball-association/
LOCATION:Darebin Community Sports Stadium\, 857 Plenty Road\, Reservoir\, Victoria\, 3073\, Australia
CATEGORIES:Club events
END:VEVENT
END:VCALENDAR