BEGIN:VCALENDAR
VERSION:2.0
PRODID:-//Ivanhoe Darebin Basketball Association - ECPv5.3.2.1//NONSGML v1.0//EN
CALSCALE:GREGORIAN
METHOD:PUBLISH
X-WR-CALNAME:Ivanhoe Darebin Basketball Association
X-ORIGINAL-URL:https://idba.org.au
X-WR-CALDESC:Events for Ivanhoe Darebin Basketball Association
BEGIN:VTIMEZONE
TZID:Australia/Melbourne
BEGIN:STANDARD
TZOFFSETFROM:+1100
TZOFFSETTO:+1000
TZNAME:AEST
DTSTART:20180331T160000
END:STANDARD
BEGIN:DAYLIGHT
TZOFFSETFROM:+1000
TZOFFSETTO:+1100
TZNAME:AEDT
DTSTART:20181006T160000
END:DAYLIGHT
END:VTIMEZONE
BEGIN:VEVENT
DTSTART;TZID=Australia/Melbourne:20180925T193000
DTEND;TZID=Australia/Melbourne:20180925T203000
DTSTAMP:20210228T100110
CREATED:20180826T082255Z
LAST-MODIFIED:20180923T094838Z
UID:2490-1537903800-1537907400@idba.org.au
SUMMARY:2018 IDBA Annual General Meeting
DESCRIPTION:IDBA 2018 Annual General Meeting \nDate/time: Tuesday 25th September 2018 @ 7.30pm \nLocation: Ivanhoe East Primary School (Space Centre) – Warncliffe Rd\, Ivanhoe East \nAgenda: \nAttendance: Present/Apologies \nMinutes from 2017 AGM \nNominations for 2018/19 Executive Committee. \nThe following nominations have been received: \nPresident – Tim Butler \nVice President – Carl Ziebell \nTreasurer – Robert Sloan \nSecretary – Jenny Kyriakopoulos \nGeneral Committee – Rachel Mansfield and Brett Taylor \nIvanhoe Knights appointed member – to be confirmed \nAs the number of nominations does not exceed the number of positions available\, all candidates are elected unopposed. \nReports – President and Treasurer \nClose
URL:https://idba.org.au/event/2018-idba-annual-general-meeting/
END:VEVENT
END:VCALENDAR